Package: DMRforPairs Version: 1.35.0 Command: /home/biocbuild/bbs-3.17-bioc/R/bin/R CMD check --install=check:DMRforPairs.install-out.txt --library=/home/biocbuild/bbs-3.17-bioc/R/library --timings DMRforPairs_1.35.0.tar.gz StartedAt: 2023-03-15 20:00:59 -0400 (Wed, 15 Mar 2023) EndedAt: 2023-03-15 20:07:00 -0400 (Wed, 15 Mar 2023) EllapsedTime: 361.7 seconds RetCode: 0 Status: OK CheckDir: DMRforPairs.Rcheck Warnings: 0