Package: DMRforPairs Version: 1.35.0 Command: /Library/Frameworks/R.framework/Resources/bin/R CMD check --install=check:DMRforPairs.install-out.txt --library=/Library/Frameworks/R.framework/Resources/library --no-vignettes --timings DMRforPairs_1.35.0.tar.gz StartedAt: 2023-03-16 00:56:10 -0400 (Thu, 16 Mar 2023) EndedAt: 2023-03-16 01:09:04 -0400 (Thu, 16 Mar 2023) EllapsedTime: 773.9 seconds RetCode: 0 Status: OK CheckDir: DMRforPairs.Rcheck Warnings: 0