Package: DMRforPairs Version: 1.35.0 Command: rm -rf DMRforPairs.buildbin-libdir && mkdir DMRforPairs.buildbin-libdir && /Users/biocbuild/BBS/utils/build-universal.sh DMRforPairs_1.35.0.tar.gz /Library/Frameworks/R.framework/Resources/bin/R DMRforPairs.buildbin-libdir StartedAt: 2023-03-16 09:04:54 -0400 (Thu, 16 Mar 2023) EndedAt: 2023-03-16 09:07:24 -0400 (Thu, 16 Mar 2023) EllapsedTime: 149.9 seconds RetCode: 0 Status: OK PackageFile: DMRforPairs_1.35.0.tgz PackageFileSize: 2.073 MiB