Package: DMRcate Version: 2.14.1 Command: /home/biocbuild/bbs-3.17-bioc/R/bin/R CMD check --install=check:DMRcate.install-out.txt --library=/home/biocbuild/bbs-3.17-bioc/R/site-library --timings DMRcate_2.14.1.tar.gz StartedAt: 2023-10-15 20:53:38 -0400 (Sun, 15 Oct 2023) EndedAt: 2023-10-15 21:21:25 -0400 (Sun, 15 Oct 2023) EllapsedTime: 1667.6 seconds RetCode: 1 Status: ERROR CheckDir: DMRcate.Rcheck Warnings: NA