Package: DMRcaller Version: 1.32.0 Command: /home/biocbuild/bbs-3.17-bioc/R/bin/R CMD build --keep-empty-dirs --no-resave-data DMRcaller StartedAt: 2023-10-15 16:37:50 -0400 (Sun, 15 Oct 2023) EndedAt: 2023-10-15 16:39:05 -0400 (Sun, 15 Oct 2023) EllapsedTime: 75.1 seconds RetCode: 0 Status: OK PackageFile: DMRcaller_1.32.0.tar.gz PackageFileSize: 1.623 MiB