Package: DMRScan Version: 1.22.0 Command: /home/biocbuild/bbs-3.17-bioc/R/bin/R CMD build --keep-empty-dirs --no-resave-data DMRScan StartedAt: 2023-10-15 16:38:09 -0400 (Sun, 15 Oct 2023) EndedAt: 2023-10-15 16:39:38 -0400 (Sun, 15 Oct 2023) EllapsedTime: 89.0 seconds RetCode: 0 Status: OK PackageFile: DMRScan_1.22.0.tar.gz PackageFileSize: 3.347 MiB