Package: DMCHMM Version: 1.22.0 Command: /home/biocbuild/bbs-3.17-bioc/R/bin/R CMD build --keep-empty-dirs --no-resave-data DMCHMM StartedAt: 2023-10-15 16:37:49 -0400 (Sun, 15 Oct 2023) EndedAt: 2023-10-15 16:39:05 -0400 (Sun, 15 Oct 2023) EllapsedTime: 76.1 seconds RetCode: 0 Status: OK PackageFile: DMCHMM_1.22.0.tar.gz PackageFileSize: 743.7 KiB