Package: DMCHMM Version: 1.22.0 Command: /Library/Frameworks/R.framework/Resources/bin/R CMD check --install=check:DMCHMM.install-out.txt --library=/Library/Frameworks/R.framework/Resources/library --no-vignettes --timings DMCHMM_1.22.0.tar.gz StartedAt: 2023-10-16 01:03:12 -0400 (Mon, 16 Oct 2023) EndedAt: 2023-10-16 01:23:11 -0400 (Mon, 16 Oct 2023) EllapsedTime: 1199.4 seconds RetCode: 0 Status: OK CheckDir: DMCHMM.Rcheck Warnings: 0