Package: DMCHMM Version: 1.22.0 Command: /Library/Frameworks/R.framework/Resources/bin/R CMD build --keep-empty-dirs --no-resave-data DMCHMM StartedAt: 2023-10-15 18:01:06 -0400 (Sun, 15 Oct 2023) EndedAt: 2023-10-15 18:04:41 -0400 (Sun, 15 Oct 2023) EllapsedTime: 215.1 seconds RetCode: 0 Status: OK PackageFile: DMCHMM_1.22.0.tar.gz PackageFileSize: 743.6 KiB