Package: DMCFB Version: 1.14.0 Command: chmod a+r DMCFB -R && F:\biocbuild\bbs-3.17-bioc\R\bin\R.exe CMD build --keep-empty-dirs --no-resave-data DMCFB StartedAt: 2023-10-15 18:47:33 -0400 (Sun, 15 Oct 2023) EndedAt: 2023-10-15 18:48:36 -0400 (Sun, 15 Oct 2023) EllapsedTime: 62.7 seconds RetCode: 0 Status: OK PackageFile: DMCFB_1.14.0.tar.gz PackageFileSize: 971.1 KiB