Package: DMCFB Version: 1.14.0 Command: /home/biocbuild/bbs-3.17-bioc/R/bin/R CMD build --keep-empty-dirs --no-resave-data DMCFB StartedAt: 2023-10-15 16:37:36 -0400 (Sun, 15 Oct 2023) EndedAt: 2023-10-15 16:39:05 -0400 (Sun, 15 Oct 2023) EllapsedTime: 89.1 seconds RetCode: 0 Status: OK PackageFile: DMCFB_1.14.0.tar.gz PackageFileSize: 1.04 MiB