Package: DMCFB Version: 1.14.0 Command: /Library/Frameworks/R.framework/Resources/bin/R CMD INSTALL DMCFB StartedAt: 2023-10-15 15:53:02 -0400 (Sun, 15 Oct 2023) EndedAt: 2023-10-15 15:54:56 -0400 (Sun, 15 Oct 2023) EllapsedTime: 113.8 seconds RetCode: 0 Status: OK