Package: DMCFB Version: 1.14.0 Command: rm -rf DMCFB.buildbin-libdir && mkdir DMCFB.buildbin-libdir && /Users/biocbuild/BBS/utils/build-universal.sh DMCFB_1.14.0.tar.gz /Library/Frameworks/R.framework/Resources/bin/R DMCFB.buildbin-libdir StartedAt: 2023-10-16 09:18:16 -0400 (Mon, 16 Oct 2023) EndedAt: 2023-10-16 09:20:18 -0400 (Mon, 16 Oct 2023) EllapsedTime: 121.9 seconds RetCode: 0 Status: OK PackageFile: DMCFB_1.14.0.tgz PackageFileSize: 1.187 MiB