Package: DIAlignR Version: 2.8.0 Command: F:\biocbuild\bbs-3.17-bioc\R\bin\R.exe CMD INSTALL DIAlignR StartedAt: 2023-10-15 16:12:14 -0400 (Sun, 15 Oct 2023) EndedAt: 2023-10-15 16:13:48 -0400 (Sun, 15 Oct 2023) EllapsedTime: 94.2 seconds RetCode: 0 Status: OK