Package: DIAlignR Version: 2.8.0 Command: F:\biocbuild\bbs-3.17-bioc\R\bin\R.exe CMD check --no-multiarch --install=check:DIAlignR.install-out.txt --library=F:\biocbuild\bbs-3.17-bioc\R\library --no-vignettes --timings DIAlignR_2.8.0.tar.gz StartedAt: 2023-10-16 01:31:25 -0400 (Mon, 16 Oct 2023) EndedAt: 2023-10-16 01:34:52 -0400 (Mon, 16 Oct 2023) EllapsedTime: 207.1 seconds RetCode: 0 Status: OK CheckDir: DIAlignR.Rcheck Warnings: 0