Package: DIAlignR Version: 2.8.0 Command: rm -rf DIAlignR.buildbin-libdir && mkdir DIAlignR.buildbin-libdir && F:\biocbuild\bbs-3.17-bioc\R\bin\R.exe CMD INSTALL --build --library=DIAlignR.buildbin-libdir DIAlignR_2.8.0.tar.gz StartedAt: 2023-10-16 08:42:08 -0400 (Mon, 16 Oct 2023) EndedAt: 2023-10-16 08:43:41 -0400 (Mon, 16 Oct 2023) EllapsedTime: 93.0 seconds RetCode: 0 Status: OK PackageFile: DIAlignR_2.8.0.zip PackageFileSize: 4.79 MiB