Package: DIAlignR Version: 2.8.0 Command: /home/biocbuild/bbs-3.17-bioc/R/bin/R CMD build --keep-empty-dirs --no-resave-data DIAlignR StartedAt: 2023-10-15 16:36:09 -0400 (Sun, 15 Oct 2023) EndedAt: 2023-10-15 16:37:36 -0400 (Sun, 15 Oct 2023) EllapsedTime: 86.9 seconds RetCode: 0 Status: OK PackageFile: DIAlignR_2.8.0.tar.gz PackageFileSize: 4.218 MiB