Package: DIAlignR Version: 2.8.0 Command: /Library/Frameworks/R.framework/Resources/bin/R CMD INSTALL DIAlignR StartedAt: 2023-10-15 15:37:58 -0400 (Sun, 15 Oct 2023) EndedAt: 2023-10-15 15:41:46 -0400 (Sun, 15 Oct 2023) EllapsedTime: 228.6 seconds RetCode: 0 Status: OK