Package: DIAlignR Version: 2.8.0 Command: /Library/Frameworks/R.framework/Resources/bin/R CMD check --install=check:DIAlignR.install-out.txt --library=/Library/Frameworks/R.framework/Resources/library --no-vignettes --timings DIAlignR_2.8.0.tar.gz StartedAt: 2023-10-16 00:55:08 -0400 (Mon, 16 Oct 2023) EndedAt: 2023-10-16 01:02:58 -0400 (Mon, 16 Oct 2023) EllapsedTime: 469.8 seconds RetCode: 0 Status: OK CheckDir: DIAlignR.Rcheck Warnings: 0