Package: DExMA Version: 1.8.1 Command: chmod a+r DExMA -R && F:\biocbuild\bbs-3.17-bioc\R\bin\R.exe CMD build --keep-empty-dirs --no-resave-data DExMA StartedAt: 2023-10-15 18:43:33 -0400 (Sun, 15 Oct 2023) EndedAt: 2023-10-15 18:44:23 -0400 (Sun, 15 Oct 2023) EllapsedTime: 50.0 seconds RetCode: 0 Status: OK PackageFile: DExMA_1.8.1.tar.gz PackageFileSize: 317.6 KiB