Package: DExMA Version: 1.8.1 Command: rm -rf DExMA.buildbin-libdir && mkdir DExMA.buildbin-libdir && F:\biocbuild\bbs-3.17-bioc\R\bin\R.exe CMD INSTALL --build --library=DExMA.buildbin-libdir DExMA_1.8.1.tar.gz StartedAt: 2023-10-16 08:42:02 -0400 (Mon, 16 Oct 2023) EndedAt: 2023-10-16 08:42:32 -0400 (Mon, 16 Oct 2023) EllapsedTime: 30.0 seconds RetCode: 0 Status: OK PackageFile: DExMA_1.8.1.zip PackageFileSize: 410.7 KiB