Package: DExMA Version: 1.8.1 Command: /home/biocbuild/bbs-3.17-bioc/R/bin/R CMD INSTALL DExMA StartedAt: 2023-10-15 15:38:45 -0400 (Sun, 15 Oct 2023) EndedAt: 2023-10-15 15:39:09 -0400 (Sun, 15 Oct 2023) EllapsedTime: 23.4 seconds RetCode: 0 Status: OK