Package: DExMA Version: 1.8.1 Command: /home/biocbuild/bbs-3.17-bioc/R/bin/R CMD check --install=check:DExMA.install-out.txt --library=/home/biocbuild/bbs-3.17-bioc/R/site-library --timings DExMA_1.8.1.tar.gz StartedAt: 2023-10-15 20:47:52 -0400 (Sun, 15 Oct 2023) EndedAt: 2023-10-15 20:51:10 -0400 (Sun, 15 Oct 2023) EllapsedTime: 198.1 seconds RetCode: 0 Status: OK CheckDir: DExMA.Rcheck Warnings: 0