Package: DExMA Version: 1.8.1 Command: /home/biocbuild/bbs-3.17-bioc/R/bin/R CMD build --keep-empty-dirs --no-resave-data DExMA StartedAt: 2023-10-15 16:35:27 -0400 (Sun, 15 Oct 2023) EndedAt: 2023-10-15 16:36:08 -0400 (Sun, 15 Oct 2023) EllapsedTime: 41.4 seconds RetCode: 0 Status: OK PackageFile: DExMA_1.8.1.tar.gz PackageFileSize: 313.8 KiB