Package: DEsubs Version: 1.26.0 Command: /Library/Frameworks/R.framework/Resources/bin/R CMD build --keep-empty-dirs --no-resave-data DEsubs StartedAt: 2023-10-15 17:55:49 -0400 (Sun, 15 Oct 2023) EndedAt: 2023-10-15 17:58:18 -0400 (Sun, 15 Oct 2023) EllapsedTime: 148.9 seconds RetCode: 0 Status: OK PackageFile: DEsubs_1.26.0.tar.gz PackageFileSize: 3.971 MiB