Package: DEsingle Version: 1.20.0 Command: rm -rf DEsingle.buildbin-libdir && mkdir DEsingle.buildbin-libdir && F:\biocbuild\bbs-3.17-bioc\R\bin\R.exe CMD INSTALL --build --library=DEsingle.buildbin-libdir DEsingle_1.20.0.tar.gz StartedAt: 2023-10-16 08:41:55 -0400 (Mon, 16 Oct 2023) EndedAt: 2023-10-16 08:42:07 -0400 (Mon, 16 Oct 2023) EllapsedTime: 12.0 seconds RetCode: 0 Status: OK PackageFile: DEsingle_1.20.0.zip PackageFileSize: 398.8 KiB