Package: DEsingle Version: 1.20.0 Command: /home/biocbuild/bbs-3.17-bioc/R/bin/R CMD check --install=check:DEsingle.install-out.txt --library=/home/biocbuild/bbs-3.17-bioc/R/site-library --timings DEsingle_1.20.0.tar.gz StartedAt: 2023-10-15 20:46:44 -0400 (Sun, 15 Oct 2023) EndedAt: 2023-10-15 20:49:29 -0400 (Sun, 15 Oct 2023) EllapsedTime: 165.7 seconds RetCode: 0 Status: OK CheckDir: DEsingle.Rcheck Warnings: 0