Package: DEsingle Version: 1.20.0 Command: /home/biocbuild/bbs-3.17-bioc/R/bin/R CMD build --keep-empty-dirs --no-resave-data DEsingle StartedAt: 2023-10-15 16:35:06 -0400 (Sun, 15 Oct 2023) EndedAt: 2023-10-15 16:35:18 -0400 (Sun, 15 Oct 2023) EllapsedTime: 12.6 seconds RetCode: 0 Status: OK PackageFile: DEsingle_1.20.0.tar.gz PackageFileSize: 380 KiB