Package: DEsingle Version: 1.20.0 Command: /Library/Frameworks/R.framework/Resources/bin/R CMD INSTALL DEsingle StartedAt: 2023-10-15 16:05:21 -0400 (Sun, 15 Oct 2023) EndedAt: 2023-10-15 16:05:49 -0400 (Sun, 15 Oct 2023) EllapsedTime: 27.5 seconds RetCode: 0 Status: OK