Package: DEsingle Version: 1.20.0 Command: /Library/Frameworks/R.framework/Resources/bin/R CMD build --keep-empty-dirs --no-resave-data DEsingle StartedAt: 2023-10-15 17:55:19 -0400 (Sun, 15 Oct 2023) EndedAt: 2023-10-15 17:55:49 -0400 (Sun, 15 Oct 2023) EllapsedTime: 30.9 seconds RetCode: 0 Status: OK PackageFile: DEsingle_1.20.0.tar.gz PackageFileSize: 379.9 KiB