Package: DEqMS Version: 1.18.0 Command: rm -rf DEqMS.buildbin-libdir && mkdir DEqMS.buildbin-libdir && F:\biocbuild\bbs-3.17-bioc\R\bin\R.exe CMD INSTALL --build --library=DEqMS.buildbin-libdir DEqMS_1.18.0.tar.gz StartedAt: 2023-10-16 08:41:43 -0400 (Mon, 16 Oct 2023) EndedAt: 2023-10-16 08:41:55 -0400 (Mon, 16 Oct 2023) EllapsedTime: 11.3 seconds RetCode: 0 Status: OK PackageFile: DEqMS_1.18.0.zip PackageFileSize: 653.5 KiB