Package: DEqMS Version: 1.18.0 Command: /home/biocbuild/bbs-3.17-bioc/R/bin/R CMD check --install=check:DEqMS.install-out.txt --library=/home/biocbuild/bbs-3.17-bioc/R/site-library --timings DEqMS_1.18.0.tar.gz StartedAt: 2023-10-13 20:48:51 -0400 (Fri, 13 Oct 2023) EndedAt: 2023-10-13 20:55:38 -0400 (Fri, 13 Oct 2023) EllapsedTime: 406.7 seconds RetCode: 0 Status: OK CheckDir: DEqMS.Rcheck Warnings: 0