Package: DEqMS Version: 1.18.0 Command: /home/biocbuild/bbs-3.17-bioc/R/bin/R CMD build --keep-empty-dirs --no-resave-data DEqMS StartedAt: 2023-10-15 16:34:30 -0400 (Sun, 15 Oct 2023) EndedAt: 2023-10-15 16:39:40 -0400 (Sun, 15 Oct 2023) EllapsedTime: 310.4 seconds RetCode: 1 Status: ERROR PackageFile: None PackageFileSize: NA