Package: DEqMS Version: 1.18.0 Command: /Library/Frameworks/R.framework/Resources/bin/R CMD build --keep-empty-dirs --no-resave-data DEqMS StartedAt: 2023-10-15 17:53:56 -0400 (Sun, 15 Oct 2023) EndedAt: 2023-10-15 18:01:24 -0400 (Sun, 15 Oct 2023) EllapsedTime: 448.5 seconds RetCode: 0 Status: OK PackageFile: DEqMS_1.18.0.tar.gz PackageFileSize: 2.091 MiB