Package: DEXSeq Version: 1.46.1 Command: /home/biocbuild/bbs-3.17-bioc/R/bin/R CMD check --install=check:DEXSeq.install-out.txt --library=/home/biocbuild/bbs-3.17-bioc/R/site-library --timings DEXSeq_1.46.1.tar.gz StartedAt: 2023-10-15 20:48:49 -0400 (Sun, 15 Oct 2023) EndedAt: 2023-10-15 20:54:26 -0400 (Sun, 15 Oct 2023) EllapsedTime: 336.6 seconds RetCode: 1 Status: ERROR CheckDir: DEXSeq.Rcheck Warnings: NA