Package: DEXSeq Version: 1.46.1 Command: /home/biocbuild/bbs-3.17-bioc/R/bin/R CMD build --keep-empty-dirs --no-resave-data DEXSeq StartedAt: 2023-10-15 16:35:31 -0400 (Sun, 15 Oct 2023) EndedAt: 2023-10-15 16:37:21 -0400 (Sun, 15 Oct 2023) EllapsedTime: 109.6 seconds RetCode: 0 Status: OK PackageFile: DEXSeq_1.46.1.tar.gz PackageFileSize: 1.541 MiB