Package: DEXSeq Version: 1.46.1 Command: /Library/Frameworks/R.framework/Resources/bin/R CMD INSTALL DEXSeq StartedAt: 2023-10-15 16:08:52 -0400 (Sun, 15 Oct 2023) EndedAt: 2023-10-15 16:10:46 -0400 (Sun, 15 Oct 2023) EllapsedTime: 114.3 seconds RetCode: 0 Status: OK