Package: DEXSeq Version: 1.46.1 Command: rm -rf DEXSeq.buildbin-libdir && mkdir DEXSeq.buildbin-libdir && /Users/biocbuild/BBS/utils/build-universal.sh DEXSeq_1.46.1.tar.gz /Library/Frameworks/R.framework/Resources/bin/R DEXSeq.buildbin-libdir StartedAt: 2023-10-16 09:17:23 -0400 (Mon, 16 Oct 2023) EndedAt: 2023-10-16 09:19:19 -0400 (Mon, 16 Oct 2023) EllapsedTime: 115.7 seconds RetCode: 0 Status: OK PackageFile: DEXSeq_1.46.1.tgz PackageFileSize: 2.026 MiB