Package: DEWSeq Version: 1.14.0 Command: chmod a+r DEWSeq -R && F:\biocbuild\bbs-3.17-bioc\R\bin\R.exe CMD build --keep-empty-dirs --no-resave-data DEWSeq StartedAt: 2023-10-15 18:43:27 -0400 (Sun, 15 Oct 2023) EndedAt: 2023-10-15 18:45:25 -0400 (Sun, 15 Oct 2023) EllapsedTime: 117.2 seconds RetCode: 0 Status: OK PackageFile: DEWSeq_1.14.0.tar.gz PackageFileSize: 3 MiB