Package: DEWSeq Version: 1.14.0 Command: rm -rf DEWSeq.buildbin-libdir && mkdir DEWSeq.buildbin-libdir && F:\biocbuild\bbs-3.17-bioc\R\bin\R.exe CMD INSTALL --build --library=DEWSeq.buildbin-libdir DEWSeq_1.14.0.tar.gz StartedAt: 2023-10-16 08:42:01 -0400 (Mon, 16 Oct 2023) EndedAt: 2023-10-16 08:42:31 -0400 (Mon, 16 Oct 2023) EllapsedTime: 29.8 seconds RetCode: 0 Status: OK PackageFile: DEWSeq_1.14.0.zip PackageFileSize: 2.518 MiB