Package: DEWSeq Version: 1.14.0 Command: /Library/Frameworks/R.framework/Resources/bin/R CMD INSTALL DEWSeq StartedAt: 2023-10-15 15:26:47 -0400 (Sun, 15 Oct 2023) EndedAt: 2023-10-15 15:28:20 -0400 (Sun, 15 Oct 2023) EllapsedTime: 92.8 seconds RetCode: 0 Status: OK