Package: DEWSeq Version: 1.14.0 Command: /Library/Frameworks/R.framework/Resources/bin/R CMD build --keep-empty-dirs --no-resave-data DEWSeq StartedAt: 2023-10-15 17:55:56 -0400 (Sun, 15 Oct 2023) EndedAt: 2023-10-15 18:01:01 -0400 (Sun, 15 Oct 2023) EllapsedTime: 304.8 seconds RetCode: 0 Status: OK PackageFile: DEWSeq_1.14.0.tar.gz PackageFileSize: 3.323 MiB