Package: DESpace Version: 1.0.0 Command: chmod a+r DESpace -R && F:\biocbuild\bbs-3.17-bioc\R\bin\R.exe CMD build --keep-empty-dirs --no-resave-data DESpace StartedAt: 2023-10-09 18:39:52 -0400 (Mon, 09 Oct 2023) EndedAt: 2023-10-09 18:55:36 -0400 (Mon, 09 Oct 2023) EllapsedTime: 943.4 seconds RetCode: 0 Status: OK PackageFile: DESpace_1.0.0.tar.gz PackageFileSize: 1.908 MiB