Package: DESpace Version: 1.0.0 Command: rm -rf DESpace.buildbin-libdir && mkdir DESpace.buildbin-libdir && F:\biocbuild\bbs-3.17-bioc\R\bin\R.exe CMD INSTALL --build --library=DESpace.buildbin-libdir DESpace_1.0.0.tar.gz StartedAt: 2023-10-10 08:44:11 -0400 (Tue, 10 Oct 2023) EndedAt: 2023-10-10 08:44:50 -0400 (Tue, 10 Oct 2023) EllapsedTime: 38.5 seconds RetCode: 0 Status: OK PackageFile: DESpace_1.0.0.zip PackageFileSize: 1.96 MiB