Package: DESpace Version: 1.0.0 Command: /home/biocbuild/bbs-3.17-bioc/R/bin/R CMD INSTALL DESpace StartedAt: 2023-10-09 15:41:34 -0400 (Mon, 09 Oct 2023) EndedAt: 2023-10-09 15:42:03 -0400 (Mon, 09 Oct 2023) EllapsedTime: 28.8 seconds RetCode: 0 Status: OK