Package: DESpace Version: 1.0.0 Command: /Library/Frameworks/R.framework/Resources/bin/R CMD INSTALL DESpace StartedAt: 2023-10-09 16:22:32 -0400 (Mon, 09 Oct 2023) EndedAt: 2023-10-09 16:24:06 -0400 (Mon, 09 Oct 2023) EllapsedTime: 93.9 seconds RetCode: 0 Status: OK