Package: DESpace Version: 1.0.0 Command: /Library/Frameworks/R.framework/Resources/bin/R CMD build --keep-empty-dirs --no-resave-data DESpace StartedAt: 2023-10-09 17:55:56 -0400 (Mon, 09 Oct 2023) EndedAt: 2023-10-09 18:12:20 -0400 (Mon, 09 Oct 2023) EllapsedTime: 983.6 seconds RetCode: 0 Status: OK PackageFile: DESpace_1.0.0.tar.gz PackageFileSize: 3.584 MiB