Package: DESpace Version: 1.0.0 Command: rm -rf DESpace.buildbin-libdir && mkdir DESpace.buildbin-libdir && /Users/biocbuild/BBS/utils/build-universal.sh DESpace_1.0.0.tar.gz /Library/Frameworks/R.framework/Resources/bin/R DESpace.buildbin-libdir StartedAt: 2023-10-10 09:19:41 -0400 (Tue, 10 Oct 2023) EndedAt: 2023-10-10 09:21:23 -0400 (Tue, 10 Oct 2023) EllapsedTime: 101.7 seconds RetCode: 0 Status: OK PackageFile: DESpace_1.0.0.tgz PackageFileSize: 3.634 MiB