Package: DEScan2 Version: 1.20.1 Command: F:\biocbuild\bbs-3.17-bioc\R\bin\R.exe CMD check --no-multiarch --install=check:DEScan2.install-out.txt --library=F:\biocbuild\bbs-3.17-bioc\R\library --no-vignettes --timings DEScan2_1.20.1.tar.gz StartedAt: 2023-10-16 01:27:01 -0400 (Mon, 16 Oct 2023) EndedAt: 2023-10-16 01:35:06 -0400 (Mon, 16 Oct 2023) EllapsedTime: 484.4 seconds RetCode: 0 Status: WARNINGS CheckDir: DEScan2.Rcheck Warnings: 2