Package: DEScan2 Version: 1.20.1 Command: chmod a+r DEScan2 -R && F:\biocbuild\bbs-3.17-bioc\R\bin\R.exe CMD build --keep-empty-dirs --no-resave-data DEScan2 StartedAt: 2023-10-15 18:43:08 -0400 (Sun, 15 Oct 2023) EndedAt: 2023-10-15 18:44:51 -0400 (Sun, 15 Oct 2023) EllapsedTime: 102.9 seconds RetCode: 0 Status: OK PackageFile: DEScan2_1.20.1.tar.gz PackageFileSize: 2.404 MiB